BEGIN:VCALENDAR
VERSION:2.0
PRODID:-//pretix//pretix.eu//
BEGIN:VEVENT
UID:pretix-SDmuseum-tickets-2861811@tickets.hallartfoundation.org
DTSTART;VALUE=DATE:20220220
DTEND;VALUE=DATE:20220221
DESCRIPTION:Tickets: https://tickets.hallartfoundation.org/2861811/\nVerans
 talter: Schloss Derneburg Museum gGmbH
DTSTAMP:20260423T013407Z
LOCATION:Kunstmuseum Schloss Derneburg
SUMMARY:Kunstmuseum Schloss Derneburg
END:VEVENT
END:VCALENDAR
