BEGIN:VCALENDAR
VERSION:2.0
PRODID:-//pretix//pretix.eu//
BEGIN:VEVENT
UID:pretix-SDmuseum-tickets-2861858@tickets.hallartfoundation.org
DTSTART;VALUE=DATE:20220320
DTEND;VALUE=DATE:20220321
DESCRIPTION:Tickets: https://tickets.hallartfoundation.org/2861858/\nVerans
 talter: Schloss Derneburg Museum gGmbH
DTSTAMP:20260425T220816Z
LOCATION:Kunstmuseum Schloss Derneburg
SUMMARY:Kunstmuseum Schloss Derneburg
END:VEVENT
END:VCALENDAR
