BEGIN:VCALENDAR
VERSION:2.0
PRODID:-//pretix//pretix.eu//
BEGIN:VEVENT
UID:pretix-SDmuseum-tickets-2861878@tickets.hallartfoundation.org
DTSTART;VALUE=DATE:20220402
DTEND;VALUE=DATE:20220403
DESCRIPTION:Tickets: https://tickets.hallartfoundation.org/2861878/\nVerans
 talter: Schloss Derneburg Museum gGmbH
DTSTAMP:20260422T085243Z
LOCATION:Kunstmuseum Schloss Derneburg
SUMMARY:Kunstmuseum Schloss Derneburg
END:VEVENT
END:VCALENDAR
