BEGIN:VCALENDAR
VERSION:2.0
PRODID:-//pretix//pretix.eu//
BEGIN:VEVENT
UID:pretix-SDmuseum-tickets-3307912@tickets.hallartfoundation.org
DTSTART;VALUE=DATE:20220731
DTEND;VALUE=DATE:20220801
DESCRIPTION:Tickets: https://tickets.hallartfoundation.org/3307912/\nVerans
 talter: Schloss Derneburg Museum gGmbH
DTSTAMP:20260422T084105Z
LOCATION:Kunstmuseum Schloss Derneburg
SUMMARY:Kunstmuseum Schloss Derneburg
END:VEVENT
END:VCALENDAR
