BEGIN:VCALENDAR
VERSION:2.0
PRODID:-//pretix//pretix.eu//
BEGIN:VEVENT
UID:pretix-SDmuseum-tickets-3319456@tickets.hallartfoundation.org
DTSTART;VALUE=DATE:20220606
DTEND;VALUE=DATE:20220607
DESCRIPTION:Tickets: https://tickets.hallartfoundation.org/3319456/\nVerans
 talter: Schloss Derneburg Museum gGmbH
DTSTAMP:20260424T203218Z
LOCATION:Kunstmuseum Schloss Derneburg
SUMMARY:Kunstmuseum Schloss Derneburg
END:VEVENT
END:VCALENDAR
