BEGIN:VCALENDAR
VERSION:2.0
PRODID:-//pretix//pretix.eu//
BEGIN:VEVENT
UID:pretix-SDmuseum-tickets-3405008@tickets.hallartfoundation.org
DTSTART;VALUE=DATE:20220902
DTEND;VALUE=DATE:20220903
DESCRIPTION:Tickets: https://tickets.hallartfoundation.org/3405008/\nVerans
 talter: Schloss Derneburg Museum gGmbH
DTSTAMP:20260420T214004Z
LOCATION:Kunstmuseum Schloss Derneburg
SUMMARY:Kunstmuseum Schloss Derneburg
END:VEVENT
END:VCALENDAR
