BEGIN:VCALENDAR
VERSION:2.0
PRODID:-//pretix//pretix.eu//
BEGIN:VEVENT
UID:pretix-SDmuseum-tickets-3497776@tickets.hallartfoundation.org
DTSTART;VALUE=DATE:20221001
DTEND;VALUE=DATE:20221002
DESCRIPTION:Tickets: https://tickets.hallartfoundation.org/3497776/\nVerans
 talter: Schloss Derneburg Museum gGmbH
DTSTAMP:20260424T164929Z
LOCATION:Kunstmuseum Schloss Derneburg
SUMMARY:Kunstmuseum Schloss Derneburg
END:VEVENT
END:VCALENDAR
