BEGIN:VCALENDAR
VERSION:2.0
PRODID:-//pretix//pretix.eu//
BEGIN:VEVENT
UID:pretix-SDmuseum-tickets-3722625@tickets.hallartfoundation.org
DTSTART;VALUE=DATE:20230120
DTEND;VALUE=DATE:20230121
DESCRIPTION:Tickets: https://tickets.hallartfoundation.org/3722625/\nVerans
 talter: Schloss Derneburg Museum gGmbH
DTSTAMP:20260423T224352Z
LOCATION:Kunstmuseum Schloss Derneburg
SUMMARY:Kunstmuseum Schloss Derneburg
END:VEVENT
END:VCALENDAR
