BEGIN:VCALENDAR
VERSION:2.0
PRODID:-//pretix//pretix.eu//
BEGIN:VEVENT
UID:pretix-SDmuseum-tickets-3799754@tickets.hallartfoundation.org
DTSTART;VALUE=DATE:20230203
DTEND;VALUE=DATE:20230204
DESCRIPTION:Tickets: https://tickets.hallartfoundation.org/3799754/\nVerans
 talter: Schloss Derneburg Museum gGmbH
DTSTAMP:20260421T084740Z
LOCATION:Kunstmuseum Schloss Derneburg
SUMMARY:Kunstmuseum Schloss Derneburg
END:VEVENT
END:VCALENDAR
