BEGIN:VCALENDAR
VERSION:2.0
PRODID:-//pretix//pretix.eu//
BEGIN:VEVENT
UID:pretix-SDmuseum-tickets-3799776@tickets.hallartfoundation.org
DTSTART;VALUE=DATE:20230210
DTEND;VALUE=DATE:20230211
DESCRIPTION:Tickets: https://tickets.hallartfoundation.org/3799776/\nVerans
 talter: Schloss Derneburg Museum gGmbH
DTSTAMP:20260422T154530Z
LOCATION:Kunstmuseum Schloss Derneburg
SUMMARY:Kunstmuseum Schloss Derneburg
END:VEVENT
END:VCALENDAR
