BEGIN:VCALENDAR
VERSION:2.0
PRODID:-//pretix//pretix.eu//
BEGIN:VEVENT
UID:pretix-SDmuseum-tickets-3799870@tickets.hallartfoundation.org
DTSTART;VALUE=DATE:20230318
DTEND;VALUE=DATE:20230319
DESCRIPTION:Tickets: https://tickets.hallartfoundation.org/3799870/\nVerans
 talter: Schloss Derneburg Museum gGmbH
DTSTAMP:20260423T193831Z
LOCATION:Kunstmuseum Schloss Derneburg
SUMMARY:Kunstmuseum Schloss Derneburg
END:VEVENT
END:VCALENDAR
