BEGIN:VCALENDAR
VERSION:2.0
PRODID:-//pretix//pretix.eu//
BEGIN:VEVENT
UID:pretix-SDmuseum-tickets-3869721@tickets.hallartfoundation.org
DTSTART;VALUE=DATE:20230624
DTEND;VALUE=DATE:20230625
DESCRIPTION:Tickets: https://tickets.hallartfoundation.org/3869721/\nVerans
 talter: Schloss Derneburg Museum gGmbH
DTSTAMP:20260424T110843Z
LOCATION:Kunstmuseum Schloss Derneburg
SUMMARY:Kunstmuseum Schloss Derneburg
END:VEVENT
END:VCALENDAR
