BEGIN:VCALENDAR
VERSION:2.0
PRODID:-//pretix//pretix.eu//
BEGIN:VEVENT
UID:pretix-SDmuseum-tickets-3869759@tickets.hallartfoundation.org
DTSTART;VALUE=DATE:20230709
DTEND;VALUE=DATE:20230710
DESCRIPTION:Tickets: https://tickets.hallartfoundation.org/3869759/\nVerans
 talter: Schloss Derneburg Museum gGmbH
DTSTAMP:20260424T142838Z
LOCATION:Kunstmuseum Schloss Derneburg
SUMMARY:Kunstmuseum Schloss Derneburg
END:VEVENT
END:VCALENDAR
