BEGIN:VCALENDAR
VERSION:2.0
PRODID:-//pretix//pretix.eu//
BEGIN:VEVENT
UID:pretix-SDmuseum-tickets-3869882@tickets.hallartfoundation.org
DTSTART;VALUE=DATE:20230909
DTEND;VALUE=DATE:20230910
DESCRIPTION:Tickets: https://tickets.hallartfoundation.org/3869882/\nVerans
 talter: Schloss Derneburg Museum gGmbH
DTSTAMP:20260424T122254Z
LOCATION:Kunstmuseum Schloss Derneburg
SUMMARY:Kunstmuseum Schloss Derneburg
END:VEVENT
END:VCALENDAR
