BEGIN:VCALENDAR
VERSION:2.0
PRODID:-//pretix//pretix.eu//
BEGIN:VEVENT
UID:pretix-SDmuseum-tickets-3985000@tickets.hallartfoundation.org
DTSTART;VALUE=DATE:20240615
DTEND;VALUE=DATE:20240616
DESCRIPTION:Tickets: https://tickets.hallartfoundation.org/3985000/\nVerans
 talter: Schloss Derneburg Museum gGmbH
DTSTAMP:20260424T033612Z
LOCATION:Kunstmuseum Schloss Derneburg
SUMMARY:Kunstmuseum Schloss Derneburg
END:VEVENT
END:VCALENDAR
