BEGIN:VCALENDAR
VERSION:2.0
PRODID:-//pretix//pretix.eu//
BEGIN:VEVENT
UID:pretix-SDmuseum-tickets-3985012@tickets.hallartfoundation.org
DTSTART;VALUE=DATE:20240616
DTEND;VALUE=DATE:20240617
DESCRIPTION:Tickets: https://tickets.hallartfoundation.org/3985012/\nVerans
 talter: Schloss Derneburg Museum gGmbH
DTSTAMP:20260425T151636Z
LOCATION:Kunstmuseum Schloss Derneburg
SUMMARY:Kunstmuseum Schloss Derneburg
END:VEVENT
END:VCALENDAR
