BEGIN:VCALENDAR
VERSION:2.0
PRODID:-//pretix//pretix.eu//
BEGIN:VEVENT
UID:pretix-SDmuseum-tickets-3985060@tickets.hallartfoundation.org
DTSTART;VALUE=DATE:20240713
DTEND;VALUE=DATE:20240714
DESCRIPTION:Tickets: https://tickets.hallartfoundation.org/3985060/\nVerans
 talter: Schloss Derneburg Museum gGmbH
DTSTAMP:20260421T051541Z
LOCATION:Kunstmuseum Schloss Derneburg
SUMMARY:Kunstmuseum Schloss Derneburg
END:VEVENT
END:VCALENDAR
