BEGIN:VCALENDAR
VERSION:2.0
PRODID:-//pretix//pretix.eu//
BEGIN:VEVENT
UID:pretix-SDmuseum-tickets-3985149@tickets.hallartfoundation.org
DTSTART;VALUE=DATE:20240825
DTEND;VALUE=DATE:20240826
DESCRIPTION:Tickets: https://tickets.hallartfoundation.org/3985149/\nVerans
 talter: Schloss Derneburg Museum gGmbH
DTSTAMP:20260425T135321Z
LOCATION:Kunstmuseum Schloss Derneburg
SUMMARY:Kunstmuseum Schloss Derneburg
END:VEVENT
END:VCALENDAR
