BEGIN:VCALENDAR
VERSION:2.0
PRODID:-//pretix//pretix.eu//
BEGIN:VEVENT
UID:pretix-SDmuseum-tickets-4368055@tickets.hallartfoundation.org
DTSTART;VALUE=DATE:20250615
DTEND;VALUE=DATE:20250616
DESCRIPTION:Tickets: https://tickets.hallartfoundation.org/4368055/\nVerans
 talter: Schloss Derneburg Museum gGmbH
DTSTAMP:20260421T113433Z
LOCATION:Kunstmuseum Schloss Derneburg
SUMMARY:Kunstmuseum Schloss Derneburg
END:VEVENT
END:VCALENDAR
